BEGIN:VCALENDAR
VERSION:2.0
PRODID:-//Musquodoboit Valley - ECPv6.15.20//NONSGML v1.0//EN
CALSCALE:GREGORIAN
METHOD:PUBLISH
X-WR-CALNAME:Musquodoboit Valley
X-ORIGINAL-URL:https://musquodoboitvalley.ca
X-WR-CALDESC:Events for Musquodoboit Valley
REFRESH-INTERVAL;VALUE=DURATION:PT1H
X-Robots-Tag:noindex
X-PUBLISHED-TTL:PT1H
BEGIN:VTIMEZONE
TZID:America/Halifax
BEGIN:DAYLIGHT
TZOFFSETFROM:-0400
TZOFFSETTO:-0300
TZNAME:ADT
DTSTART:20240310T060000
END:DAYLIGHT
BEGIN:STANDARD
TZOFFSETFROM:-0300
TZOFFSETTO:-0400
TZNAME:AST
DTSTART:20241103T050000
END:STANDARD
BEGIN:DAYLIGHT
TZOFFSETFROM:-0400
TZOFFSETTO:-0300
TZNAME:ADT
DTSTART:20250309T060000
END:DAYLIGHT
BEGIN:STANDARD
TZOFFSETFROM:-0300
TZOFFSETTO:-0400
TZNAME:AST
DTSTART:20251102T050000
END:STANDARD
BEGIN:DAYLIGHT
TZOFFSETFROM:-0400
TZOFFSETTO:-0300
TZNAME:ADT
DTSTART:20260308T060000
END:DAYLIGHT
BEGIN:STANDARD
TZOFFSETFROM:-0300
TZOFFSETTO:-0400
TZNAME:AST
DTSTART:20261101T050000
END:STANDARD
END:VTIMEZONE
BEGIN:VEVENT
DTSTART;TZID=America/Halifax:20250802T100000
DTEND;TZID=America/Halifax:20250802T140000
DTSTAMP:20260421T092857
CREATED:20250721T161106Z
LAST-MODIFIED:20250721T165635Z
UID:10000092-1754128800-1754143200@musquodoboitvalley.ca
SUMMARY:Book and Rummage Sale
DESCRIPTION:Drop by to find your next book or treasure. There will also be fries\, onion rings\, hamburgers\, hot dogs and ice cream sundaes
URL:https://musquodoboitvalley.ca/event/book-and-rummage-sale/
LOCATION:Dean Church Hall
CATEGORIES:Activity/Event
END:VEVENT
BEGIN:VEVENT
DTSTART;TZID=America/Halifax:20250807T160000
DTEND;TZID=America/Halifax:20250807T180000
DTSTAMP:20260421T092857
CREATED:20250725T175327Z
LAST-MODIFIED:20251229T150701Z
UID:10000096-1754582400-1754589600@musquodoboitvalley.ca
SUMMARY:Affordable Food Market
DESCRIPTION:In partnership with local community organizations\, the Mobile Food Market will be offering a weekly affordable food market where you’ll be able to get:\n🥬 Fresh fruits & veggies\n🍞 Bread & pita\n🥚 Eggs\n🥫 Canned goods \nEveryone is welcome! Join us to get your fresh\, affordable food. \nFREE transportation to the market is available through Musgo Rider. Booking 24 hours in advance is required. (902) 483-7433\nAvailable products and prices can be found on the Mobile Food Market’s Facebook page every Wednesday afternoon prior to the Thursday Market.
URL:https://musquodoboitvalley.ca/event/musquodoboit-valley-affordable-food-market/2025-08-07/
LOCATION:Middleton United Church\, 12430 Highway 224\, Middle Musquodoboit\, Nova Scotia / Nouvelle-Écosse\, B0N 1X0\, Canada
CATEGORIES:Food
ATTACH;FMTTYPE=image/jpeg:https://musquodoboitvalley.ca/wp-content/uploads/2025/07/518880648_10162690569591154_9006052242574812244_n-1.jpg
END:VEVENT
BEGIN:VEVENT
DTSTART;TZID=America/Halifax:20250813T090000
DTEND;TZID=America/Halifax:20250816T220000
DTSTAMP:20260421T092857
CREATED:20250721T161633Z
LAST-MODIFIED:20250721T165655Z
UID:10000093-1755075600-1755381600@musquodoboitvalley.ca
SUMMARY:Halifax County Exhibition
DESCRIPTION:Experience the Halifax County Exhibition with exciting 4-H competitions\, horse and livestock shows\, musical entertainment\, handcrafted displays\, kids’ farm play space\, vibrant flowers\, midway rides\, and delicious food—all in one fun-filled event! Exhibition Grounds\, Middle Musquodoboit. 9:00 am – 10:00 pm (Wed)\, 10:00 am –10:00 pm (Thurs-Sat). $3 for kids 12 and under\, $10 teens/adult\, $6 seniors. Website halifaxcountyex.com or FB@halifaxcountyex or 902-384-2894 or office@halifaxcountyex.com
URL:https://musquodoboitvalley.ca/event/halifax-county-exhibition/
LOCATION:Middle Musquodoboit Exhibition Grounds
CATEGORIES:Activity/Event
END:VEVENT
BEGIN:VEVENT
DTSTART;TZID=America/Halifax:20250814T160000
DTEND;TZID=America/Halifax:20250814T180000
DTSTAMP:20260421T092857
CREATED:20250725T175327Z
LAST-MODIFIED:20251229T150701Z
UID:10000097-1755187200-1755194400@musquodoboitvalley.ca
SUMMARY:Affordable Food Market
DESCRIPTION:In partnership with local community organizations\, the Mobile Food Market will be offering a weekly affordable food market where you’ll be able to get:\n🥬 Fresh fruits & veggies\n🍞 Bread & pita\n🥚 Eggs\n🥫 Canned goods \nEveryone is welcome! Join us to get your fresh\, affordable food. \nFREE transportation to the market is available through Musgo Rider. Booking 24 hours in advance is required. (902) 483-7433\nAvailable products and prices can be found on the Mobile Food Market’s Facebook page every Wednesday afternoon prior to the Thursday Market.
URL:https://musquodoboitvalley.ca/event/musquodoboit-valley-affordable-food-market/2025-08-14/
LOCATION:Middleton United Church\, 12430 Highway 224\, Middle Musquodoboit\, Nova Scotia / Nouvelle-Écosse\, B0N 1X0\, Canada
CATEGORIES:Food
ATTACH;FMTTYPE=image/jpeg:https://musquodoboitvalley.ca/wp-content/uploads/2025/07/518880648_10162690569591154_9006052242574812244_n-1.jpg
END:VEVENT
BEGIN:VEVENT
DTSTART;TZID=America/Halifax:20250821T160000
DTEND;TZID=America/Halifax:20250821T180000
DTSTAMP:20260421T092857
CREATED:20250725T175327Z
LAST-MODIFIED:20251229T150701Z
UID:10000098-1755792000-1755799200@musquodoboitvalley.ca
SUMMARY:Affordable Food Market
DESCRIPTION:In partnership with local community organizations\, the Mobile Food Market will be offering a weekly affordable food market where you’ll be able to get:\n🥬 Fresh fruits & veggies\n🍞 Bread & pita\n🥚 Eggs\n🥫 Canned goods \nEveryone is welcome! Join us to get your fresh\, affordable food. \nFREE transportation to the market is available through Musgo Rider. Booking 24 hours in advance is required. (902) 483-7433\nAvailable products and prices can be found on the Mobile Food Market’s Facebook page every Wednesday afternoon prior to the Thursday Market.
URL:https://musquodoboitvalley.ca/event/musquodoboit-valley-affordable-food-market/2025-08-21/
LOCATION:Middleton United Church\, 12430 Highway 224\, Middle Musquodoboit\, Nova Scotia / Nouvelle-Écosse\, B0N 1X0\, Canada
CATEGORIES:Food
ATTACH;FMTTYPE=image/jpeg:https://musquodoboitvalley.ca/wp-content/uploads/2025/07/518880648_10162690569591154_9006052242574812244_n-1.jpg
END:VEVENT
BEGIN:VEVENT
DTSTART;TZID=America/Halifax:20250823T150000
DTEND;TZID=America/Halifax:20250823T180000
DTSTAMP:20260421T092857
CREATED:20250721T161820Z
LAST-MODIFIED:20250721T165705Z
UID:10000094-1755961200-1755972000@musquodoboitvalley.ca
SUMMARY:Salad and Cold cut Takeout
DESCRIPTION:Delicious takeout meal with cheesecake for dessert. Dean Church Hall\, 3:00 pm to 6:00 pm\, $12.00 for adults\, $5.00 for youth 12 and under\, preschoolers free. Order ahead if you prefer at 568-0025 or 568-2578.
URL:https://musquodoboitvalley.ca/event/salad-and-cold-cut-takeout-2/
LOCATION:Dean Church Hall
CATEGORIES:Food
END:VEVENT
BEGIN:VEVENT
DTSTART;TZID=America/Halifax:20250828T160000
DTEND;TZID=America/Halifax:20250828T180000
DTSTAMP:20260421T092857
CREATED:20250725T175327Z
LAST-MODIFIED:20251229T150701Z
UID:10000099-1756396800-1756404000@musquodoboitvalley.ca
SUMMARY:Affordable Food Market
DESCRIPTION:In partnership with local community organizations\, the Mobile Food Market will be offering a weekly affordable food market where you’ll be able to get:\n🥬 Fresh fruits & veggies\n🍞 Bread & pita\n🥚 Eggs\n🥫 Canned goods \nEveryone is welcome! Join us to get your fresh\, affordable food. \nFREE transportation to the market is available through Musgo Rider. Booking 24 hours in advance is required. (902) 483-7433\nAvailable products and prices can be found on the Mobile Food Market’s Facebook page every Wednesday afternoon prior to the Thursday Market.
URL:https://musquodoboitvalley.ca/event/musquodoboit-valley-affordable-food-market/2025-08-28/
LOCATION:Middleton United Church\, 12430 Highway 224\, Middle Musquodoboit\, Nova Scotia / Nouvelle-Écosse\, B0N 1X0\, Canada
CATEGORIES:Food
ATTACH;FMTTYPE=image/jpeg:https://musquodoboitvalley.ca/wp-content/uploads/2025/07/518880648_10162690569591154_9006052242574812244_n-1.jpg
END:VEVENT
END:VCALENDAR