BEGIN:VCALENDAR
VERSION:2.0
PRODID:-//Musquodoboit Valley - ECPv6.15.20//NONSGML v1.0//EN
CALSCALE:GREGORIAN
METHOD:PUBLISH
X-ORIGINAL-URL:https://musquodoboitvalley.ca
X-WR-CALDESC:Events for Musquodoboit Valley
REFRESH-INTERVAL;VALUE=DURATION:PT1H
X-Robots-Tag:noindex
X-PUBLISHED-TTL:PT1H
BEGIN:VTIMEZONE
TZID:America/Halifax
BEGIN:DAYLIGHT
TZOFFSETFROM:-0400
TZOFFSETTO:-0300
TZNAME:ADT
DTSTART:20240310T060000
END:DAYLIGHT
BEGIN:STANDARD
TZOFFSETFROM:-0300
TZOFFSETTO:-0400
TZNAME:AST
DTSTART:20241103T050000
END:STANDARD
BEGIN:DAYLIGHT
TZOFFSETFROM:-0400
TZOFFSETTO:-0300
TZNAME:ADT
DTSTART:20250309T060000
END:DAYLIGHT
BEGIN:STANDARD
TZOFFSETFROM:-0300
TZOFFSETTO:-0400
TZNAME:AST
DTSTART:20251102T050000
END:STANDARD
BEGIN:DAYLIGHT
TZOFFSETFROM:-0400
TZOFFSETTO:-0300
TZNAME:ADT
DTSTART:20260308T060000
END:DAYLIGHT
BEGIN:STANDARD
TZOFFSETFROM:-0300
TZOFFSETTO:-0400
TZNAME:AST
DTSTART:20261101T050000
END:STANDARD
END:VTIMEZONE
BEGIN:VEVENT
DTSTART;TZID=America/Halifax:20250701T100000
DTEND;TZID=America/Halifax:20250701T140000
DTSTAMP:20260421T081617
CREATED:20250701T132852Z
LAST-MODIFIED:20250721T165613Z
UID:10000090-1751364000-1751378400@musquodoboitvalley.ca
SUMMARY:The Valley Communities Picnic
DESCRIPTION:Rain or shine\, we’re ready for fun!!\nPlease join us on Canada Day 2025 at the Exhibition Grounds as we come together as a Musquodoboit Valley Community!\nThis Picnic is an opportunity to catch up with our neighbours and community organizations\, as well as an opportunity to welcome newcomers to our Valley.\nThere’s going to be so many wonderful things to see\, hear\, and eat\, including but not limited to:\n-BBQ and tasty treats from local groups\n-A Community Organizations Fair\n-Pony rides\n-Inflatable obstacle course\n-Live local music\n-Kid’s Zone with games\n– and much\, much more!\nMore details and the full schedule of events will be released in the weeks to come. In the meantime\, please help spread the word and get ready to have an AMAZING time on July 1st! We can’t wait to see you there!
URL:https://musquodoboitvalley.ca/event/the-valley-communities-picnic/
LOCATION:Halifax Co Exhibition Grounds\, 190 Exhibition Grounds Road\, Middle Musquodoboit\, nova scotia\, B0N 1X0\, Canada
CATEGORIES:Food
END:VEVENT
BEGIN:VEVENT
DTSTART;TZID=America/Halifax:20250731T080000
DTEND;TZID=America/Halifax:20250731T170000
DTSTAMP:20260421T081618
CREATED:20250731T183506Z
LAST-MODIFIED:20250731T183506Z
UID:10000121-1753948800-1753981200@musquodoboitvalley.ca
SUMMARY:Mustang Run (walk/run event)
DESCRIPTION:Musquodoboit Valley’s inaugural walk/run event to raise funds in support of opportunities for Musquodoboit Valley youth to be physically active. \nThe Mustang Run is a collaborative venture of the Middle Musquodoboit Agricultural\nSociety and the School Advisory Council of the Musquodoboit Rural High School.  \nFor more information and to register: raceroster.com
URL:https://musquodoboitvalley.ca/event/mustang-run-walk-run-event/
LOCATION:Middle Musquodoboit Exhibition Grounds
CATEGORIES:Activity/Event
ATTACH;FMTTYPE=image/jpeg:https://musquodoboitvalley.ca/wp-content/uploads/2025/07/Mustang-Run-t-shirts.jpg
END:VEVENT
BEGIN:VEVENT
DTSTART;TZID=America/Halifax:20250731T160000
DTEND;TZID=America/Halifax:20250731T180000
DTSTAMP:20260421T081618
CREATED:20250725T175327Z
LAST-MODIFIED:20251229T150701Z
UID:10000095-1753977600-1753984800@musquodoboitvalley.ca
SUMMARY:Affordable Food Market
DESCRIPTION:In partnership with local community organizations\, the Mobile Food Market will be offering a weekly affordable food market where you’ll be able to get:\n🥬 Fresh fruits & veggies\n🍞 Bread & pita\n🥚 Eggs\n🥫 Canned goods \nEveryone is welcome! Join us to get your fresh\, affordable food. \nFREE transportation to the market is available through Musgo Rider. Booking 24 hours in advance is required. (902) 483-7433\nAvailable products and prices can be found on the Mobile Food Market’s Facebook page every Wednesday afternoon prior to the Thursday Market.
URL:https://musquodoboitvalley.ca/event/musquodoboit-valley-affordable-food-market/2025-07-31/
LOCATION:Middleton United Church\, 12430 Highway 224\, Middle Musquodoboit\, Nova Scotia / Nouvelle-Écosse\, B0N 1X0\, Canada
CATEGORIES:Food
ATTACH;FMTTYPE=image/jpeg:https://musquodoboitvalley.ca/wp-content/uploads/2025/07/518880648_10162690569591154_9006052242574812244_n-1.jpg
END:VEVENT
END:VCALENDAR