BEGIN:VCALENDAR
VERSION:2.0
PRODID:-//Musquodoboit Valley - ECPv6.15.20//NONSGML v1.0//EN
CALSCALE:GREGORIAN
METHOD:PUBLISH
X-WR-CALNAME:Musquodoboit Valley
X-ORIGINAL-URL:https://musquodoboitvalley.ca
X-WR-CALDESC:Events for Musquodoboit Valley
REFRESH-INTERVAL;VALUE=DURATION:PT1H
X-Robots-Tag:noindex
X-PUBLISHED-TTL:PT1H
BEGIN:VTIMEZONE
TZID:America/Halifax
BEGIN:DAYLIGHT
TZOFFSETFROM:-0400
TZOFFSETTO:-0300
TZNAME:ADT
DTSTART:20230312T060000
END:DAYLIGHT
BEGIN:STANDARD
TZOFFSETFROM:-0300
TZOFFSETTO:-0400
TZNAME:AST
DTSTART:20231105T050000
END:STANDARD
BEGIN:DAYLIGHT
TZOFFSETFROM:-0400
TZOFFSETTO:-0300
TZNAME:ADT
DTSTART:20240310T060000
END:DAYLIGHT
BEGIN:STANDARD
TZOFFSETFROM:-0300
TZOFFSETTO:-0400
TZNAME:AST
DTSTART:20241103T050000
END:STANDARD
BEGIN:DAYLIGHT
TZOFFSETFROM:-0400
TZOFFSETTO:-0300
TZNAME:ADT
DTSTART:20250309T060000
END:DAYLIGHT
BEGIN:STANDARD
TZOFFSETFROM:-0300
TZOFFSETTO:-0400
TZNAME:AST
DTSTART:20251102T050000
END:STANDARD
END:VTIMEZONE
BEGIN:VEVENT
DTSTART;TZID=America/Halifax:20241201T183000
DTEND;TZID=America/Halifax:20241201T193000
DTSTAMP:20260421T124958
CREATED:20241101T182328Z
LAST-MODIFIED:20241101T182328Z
UID:10000029-1733077800-1733081400@musquodoboitvalley.ca
SUMMARY:Tree Lighting
DESCRIPTION:Tree lighting.
URL:https://musquodoboitvalley.ca/event/tree-lighting/
ORGANIZER;CN="Sharon Presbyterian Church":MAILTO:dartnut@hotmail.com
END:VEVENT
BEGIN:VEVENT
DTSTART;VALUE=DATE:20241205
DTEND;VALUE=DATE:20241206
DTSTAMP:20260421T124958
CREATED:20241101T181300Z
LAST-MODIFIED:20241101T181300Z
UID:10000024-1733356800-1733443199@musquodoboitvalley.ca
SUMMARY:Board Meeting
DESCRIPTION:Board Meeting.
URL:https://musquodoboitvalley.ca/event/board-meeting-4/
ORGANIZER;CN="Elderbank Recreation Club":MAILTO:info@elderbankrecclub.com
END:VEVENT
BEGIN:VEVENT
DTSTART;TZID=America/Halifax:20241206T190000
DTEND;TZID=America/Halifax:20241206T200000
DTSTAMP:20260421T124958
CREATED:20241101T134857Z
LAST-MODIFIED:20241101T134857Z
UID:10000011-1733511600-1733515200@musquodoboitvalley.ca
SUMMARY:Cards - Auction 45
DESCRIPTION:Auction 45 card games
URL:https://musquodoboitvalley.ca/event/cards-auction-45-3/
ORGANIZER;CN="Meagher's Grant Community Hall":MAILTO:meaghersgrantvfd@gmail.com
END:VEVENT
BEGIN:VEVENT
DTSTART;VALUE=DATE:20241207
DTEND;VALUE=DATE:20241208
DTSTAMP:20260421T124958
CREATED:20241031T221315Z
LAST-MODIFIED:20241031T221315Z
UID:10000003-1733529600-1733615999@musquodoboitvalley.ca
SUMMARY:Veggie Pickup
DESCRIPTION:Square Roots offers 10 lbs bags of veggies bi weekly to those in need for an affordable price ..\ndiscounted price or free when in need.
URL:https://musquodoboitvalley.ca/event/veggie-pickup-3/
ORGANIZER;CN="Square Roots":MAILTO:musquodoboitvalleysquareroots@gmail.com 
END:VEVENT
BEGIN:VEVENT
DTSTART;TZID=America/Halifax:20241208T183000
DTEND;TZID=America/Halifax:20241208T193000
DTSTAMP:20260421T124958
CREATED:20241101T182704Z
LAST-MODIFIED:20241101T182704Z
UID:10000032-1733682600-1733686200@musquodoboitvalley.ca
SUMMARY:Memorial Christmas Tree Lighting
DESCRIPTION:Donate to our memorial tree lighting and give the name of a lost\, yet still loved\, family member or friend that has passed on. Each name will be placed on an ornament\, then read durring our memorial ceremony. Those that donate are welcome to come hang the ornament in memory of their loved one. We welcome all to attend and take a moment to remember those in our community\, and families\, that we miss during the holiday season.
URL:https://musquodoboitvalley.ca/event/memorial-christmas-tree-lighting/
ORGANIZER;CN="Upper Musquodoboit Community Association":MAILTO:umca8344@gmail.com
END:VEVENT
BEGIN:VEVENT
DTSTART;TZID=America/Halifax:20241209T190000
DTEND;TZID=America/Halifax:20241209T200000
DTSTAMP:20260421T124959
CREATED:20241031T223353Z
LAST-MODIFIED:20241031T223353Z
UID:10000006-1733770800-1733774400@musquodoboitvalley.ca
SUMMARY:Board Meeting
DESCRIPTION:Help make decision regarding the hall and it’s activities.
URL:https://musquodoboitvalley.ca/event/board-meeting-2/
ORGANIZER;CN="Meagher's Grant Community Hall":MAILTO:meaghersgrantvfd@gmail.com
END:VEVENT
BEGIN:VEVENT
DTSTART;VALUE=DATE:20241212
DTEND;VALUE=DATE:20241213
DTSTAMP:20260421T124959
CREATED:20241101T180810Z
LAST-MODIFIED:20241101T180810Z
UID:10000021-1733961600-1734047999@musquodoboitvalley.ca
SUMMARY:Meals to Wheels
DESCRIPTION:If you would like to come please contact Anita by Mon so we can prepare for accurate number and don’t waste any food.
URL:https://musquodoboitvalley.ca/event/meals-to-wheels-3/
END:VEVENT
BEGIN:VEVENT
DTSTART;VALUE=DATE:20241213
DTEND;VALUE=DATE:20241214
DTSTAMP:20260421T124959
CREATED:20241031T223748Z
LAST-MODIFIED:20241031T223748Z
UID:10000008-1734048000-1734134399@musquodoboitvalley.ca
SUMMARY:Christmas Dinner
DESCRIPTION:Turkey dinner with all the trimmings\, tea\, coffee and dessert\, cash or card payment accepted\, bar open.
URL:https://musquodoboitvalley.ca/event/christmas-dinner/
ORGANIZER;CN="Meagher's Grant Community Hall":MAILTO:meaghersgrantvfd@gmail.com
END:VEVENT
BEGIN:VEVENT
DTSTART;TZID=America/Halifax:20241220T190000
DTEND;TZID=America/Halifax:20241220T200000
DTSTAMP:20260421T124959
CREATED:20241101T134936Z
LAST-MODIFIED:20241101T134936Z
UID:10000012-1734721200-1734724800@musquodoboitvalley.ca
SUMMARY:Cards - Auction 45
DESCRIPTION:Auction 45 card games
URL:https://musquodoboitvalley.ca/event/cards-auction-45-4/
ORGANIZER;CN="Meagher's Grant Community Hall":MAILTO:meaghersgrantvfd@gmail.com
END:VEVENT
BEGIN:VEVENT
DTSTART;VALUE=DATE:20241221
DTEND;VALUE=DATE:20241222
DTSTAMP:20260421T124959
CREATED:20241031T221339Z
LAST-MODIFIED:20241031T221339Z
UID:10000004-1734739200-1734825599@musquodoboitvalley.ca
SUMMARY:Veggie Pickup
DESCRIPTION:Square Roots offers 10 lbs bags of veggies bi weekly to those in need for an affordable price ..\ndiscounted price or free when in need.
URL:https://musquodoboitvalley.ca/event/veggie-pickup-4/
ORGANIZER;CN="Square Roots":MAILTO:musquodoboitvalleysquareroots@gmail.com 
END:VEVENT
END:VCALENDAR