BEGIN:VCALENDAR
VERSION:2.0
PRODID:-//Musquodoboit Valley - ECPv6.15.20//NONSGML v1.0//EN
CALSCALE:GREGORIAN
METHOD:PUBLISH
X-WR-CALNAME:Musquodoboit Valley
X-ORIGINAL-URL:https://musquodoboitvalley.ca
X-WR-CALDESC:Events for Musquodoboit Valley
REFRESH-INTERVAL;VALUE=DURATION:PT1H
X-Robots-Tag:noindex
X-PUBLISHED-TTL:PT1H
BEGIN:VTIMEZONE
TZID:America/Halifax
BEGIN:DAYLIGHT
TZOFFSETFROM:-0400
TZOFFSETTO:-0300
TZNAME:ADT
DTSTART:20240310T060000
END:DAYLIGHT
BEGIN:STANDARD
TZOFFSETFROM:-0300
TZOFFSETTO:-0400
TZNAME:AST
DTSTART:20241103T050000
END:STANDARD
BEGIN:DAYLIGHT
TZOFFSETFROM:-0400
TZOFFSETTO:-0300
TZNAME:ADT
DTSTART:20250309T060000
END:DAYLIGHT
BEGIN:STANDARD
TZOFFSETFROM:-0300
TZOFFSETTO:-0400
TZNAME:AST
DTSTART:20251102T050000
END:STANDARD
BEGIN:DAYLIGHT
TZOFFSETFROM:-0400
TZOFFSETTO:-0300
TZNAME:ADT
DTSTART:20260308T060000
END:DAYLIGHT
BEGIN:STANDARD
TZOFFSETFROM:-0300
TZOFFSETTO:-0400
TZNAME:AST
DTSTART:20261101T050000
END:STANDARD
END:VTIMEZONE
BEGIN:VEVENT
DTSTART;TZID=America/Halifax:20250813T090000
DTEND;TZID=America/Halifax:20250816T220000
DTSTAMP:20260423T063602
CREATED:20250721T161633Z
LAST-MODIFIED:20250721T165655Z
UID:10000093-1755075600-1755381600@musquodoboitvalley.ca
SUMMARY:Halifax County Exhibition
DESCRIPTION:Experience the Halifax County Exhibition with exciting 4-H competitions\, horse and livestock shows\, musical entertainment\, handcrafted displays\, kids’ farm play space\, vibrant flowers\, midway rides\, and delicious food—all in one fun-filled event! Exhibition Grounds\, Middle Musquodoboit. 9:00 am – 10:00 pm (Wed)\, 10:00 am –10:00 pm (Thurs-Sat). $3 for kids 12 and under\, $10 teens/adult\, $6 seniors. Website halifaxcountyex.com or FB@halifaxcountyex or 902-384-2894 or office@halifaxcountyex.com
URL:https://musquodoboitvalley.ca/event/halifax-county-exhibition/
LOCATION:Middle Musquodoboit Exhibition Grounds
CATEGORIES:Activity/Event
END:VEVENT
END:VCALENDAR