BEGIN:VCALENDAR
VERSION:2.0
PRODID:-//Musquodoboit Valley - ECPv6.15.20//NONSGML v1.0//EN
CALSCALE:GREGORIAN
METHOD:PUBLISH
X-WR-CALNAME:Musquodoboit Valley
X-ORIGINAL-URL:https://musquodoboitvalley.ca
X-WR-CALDESC:Events for Musquodoboit Valley
REFRESH-INTERVAL;VALUE=DURATION:PT1H
X-Robots-Tag:noindex
X-PUBLISHED-TTL:PT1H
BEGIN:VTIMEZONE
TZID:America/Halifax
BEGIN:DAYLIGHT
TZOFFSETFROM:-0400
TZOFFSETTO:-0300
TZNAME:ADT
DTSTART:20240310T060000
END:DAYLIGHT
BEGIN:STANDARD
TZOFFSETFROM:-0300
TZOFFSETTO:-0400
TZNAME:AST
DTSTART:20241103T050000
END:STANDARD
BEGIN:DAYLIGHT
TZOFFSETFROM:-0400
TZOFFSETTO:-0300
TZNAME:ADT
DTSTART:20250309T060000
END:DAYLIGHT
BEGIN:STANDARD
TZOFFSETFROM:-0300
TZOFFSETTO:-0400
TZNAME:AST
DTSTART:20251102T050000
END:STANDARD
BEGIN:DAYLIGHT
TZOFFSETFROM:-0400
TZOFFSETTO:-0300
TZNAME:ADT
DTSTART:20260308T060000
END:DAYLIGHT
BEGIN:STANDARD
TZOFFSETFROM:-0300
TZOFFSETTO:-0400
TZNAME:AST
DTSTART:20261101T050000
END:STANDARD
END:VTIMEZONE
BEGIN:VEVENT
DTSTART;TZID=America/Halifax:20250608T130000
DTEND;TZID=America/Halifax:20250608T150000
DTSTAMP:20260421T081309
CREATED:20250423T183502Z
LAST-MODIFIED:20250514T181216Z
UID:10000077-1749387600-1749394800@musquodoboitvalley.ca
SUMMARY:Mount Traber Open House
DESCRIPTION:An afternoon for families to enjoy food\, animals\, wagon rides\, swimming\, and more! Mount Traber Bible Camp\, 1:00 – 3:00 pm\, www.mounttraber.org\, (902) 384-2238.
URL:https://musquodoboitvalley.ca/event/mount-traber-open-house/
LOCATION:Mount Traber Bible Camp
CATEGORIES:Activity/Event
END:VEVENT
END:VCALENDAR