BEGIN:VCALENDAR
VERSION:2.0
PRODID:-//Musquodoboit Valley - ECPv6.15.20//NONSGML v1.0//EN
CALSCALE:GREGORIAN
METHOD:PUBLISH
X-ORIGINAL-URL:https://musquodoboitvalley.ca
X-WR-CALDESC:Events for Musquodoboit Valley
REFRESH-INTERVAL;VALUE=DURATION:PT1H
X-Robots-Tag:noindex
X-PUBLISHED-TTL:PT1H
BEGIN:VTIMEZONE
TZID:America/Halifax
BEGIN:DAYLIGHT
TZOFFSETFROM:-0400
TZOFFSETTO:-0300
TZNAME:ADT
DTSTART:20240310T060000
END:DAYLIGHT
BEGIN:STANDARD
TZOFFSETFROM:-0300
TZOFFSETTO:-0400
TZNAME:AST
DTSTART:20241103T050000
END:STANDARD
BEGIN:DAYLIGHT
TZOFFSETFROM:-0400
TZOFFSETTO:-0300
TZNAME:ADT
DTSTART:20250309T060000
END:DAYLIGHT
BEGIN:STANDARD
TZOFFSETFROM:-0300
TZOFFSETTO:-0400
TZNAME:AST
DTSTART:20251102T050000
END:STANDARD
BEGIN:DAYLIGHT
TZOFFSETFROM:-0400
TZOFFSETTO:-0300
TZNAME:ADT
DTSTART:20260308T060000
END:DAYLIGHT
BEGIN:STANDARD
TZOFFSETFROM:-0300
TZOFFSETTO:-0400
TZNAME:AST
DTSTART:20261101T050000
END:STANDARD
END:VTIMEZONE
BEGIN:VEVENT
DTSTART;TZID=America/Halifax:20250528T130000
DTEND;TZID=America/Halifax:20250528T140000
DTSTAMP:20260421T065008
CREATED:20250423T182533Z
LAST-MODIFIED:20250514T181119Z
UID:10000072-1748437200-1748440800@musquodoboitvalley.ca
SUMMARY:Thoughts\, Feelings and Actions: Tools for a Healthy Inner Dialogue
DESCRIPTION:A workshop presented by the Well-Being HUB. Carroll’s Corner Community Centre\, 1:00 -2:30 pm. Registration required\, Well-Being HUB at 1-782-409-9007/admin@wellbeinghub.ca
URL:https://musquodoboitvalley.ca/event/thoughts-feelings-and-actions-tools-for-a-healthy-inner-dialogue/
LOCATION:Carroll’s Corner Community Centre
CATEGORIES:Activity/Event
END:VEVENT
END:VCALENDAR