BEGIN:VCALENDAR
VERSION:2.0
PRODID:-//Musquodoboit Valley - ECPv6.15.20//NONSGML v1.0//EN
CALSCALE:GREGORIAN
METHOD:PUBLISH
X-WR-CALNAME:Musquodoboit Valley
X-ORIGINAL-URL:https://musquodoboitvalley.ca
X-WR-CALDESC:Events for Musquodoboit Valley
REFRESH-INTERVAL;VALUE=DURATION:PT1H
X-Robots-Tag:noindex
X-PUBLISHED-TTL:PT1H
BEGIN:VTIMEZONE
TZID:America/Halifax
BEGIN:DAYLIGHT
TZOFFSETFROM:-0400
TZOFFSETTO:-0300
TZNAME:ADT
DTSTART:20240310T060000
END:DAYLIGHT
BEGIN:STANDARD
TZOFFSETFROM:-0300
TZOFFSETTO:-0400
TZNAME:AST
DTSTART:20241103T050000
END:STANDARD
BEGIN:DAYLIGHT
TZOFFSETFROM:-0400
TZOFFSETTO:-0300
TZNAME:ADT
DTSTART:20250309T060000
END:DAYLIGHT
BEGIN:STANDARD
TZOFFSETFROM:-0300
TZOFFSETTO:-0400
TZNAME:AST
DTSTART:20251102T050000
END:STANDARD
BEGIN:DAYLIGHT
TZOFFSETFROM:-0400
TZOFFSETTO:-0300
TZNAME:ADT
DTSTART:20260308T060000
END:DAYLIGHT
BEGIN:STANDARD
TZOFFSETFROM:-0300
TZOFFSETTO:-0400
TZNAME:AST
DTSTART:20261101T050000
END:STANDARD
END:VTIMEZONE
BEGIN:VEVENT
DTSTART;TZID=America/Halifax:20250215T103000
DTEND;TZID=America/Halifax:20250215T123000
DTSTAMP:20260421T112755
CREATED:20250209T165946Z
LAST-MODIFIED:20250209T170154Z
UID:10000046-1739615400-1739622600@musquodoboitvalley.ca
SUMMARY:Squareroots Veggie Pick up
DESCRIPTION:We offer 10 lbs bags of veggies bi weekly to those in need for an affordable price .. discounted price or free when in need. \nSign up for your bundle here: Produce Bundle Sign Up for Musquodoboit Valley \nmusquodoboitvalleysquareroots@gmail.com
URL:https://musquodoboitvalley.ca/event/squareroots-veggie-pick-up/
LOCATION:Musquodoboit Valley Squareroots\, 13867 Hwy 224\, Chaswood\, NS\, B0N 2H0\, Canada
END:VEVENT
BEGIN:VEVENT
DTSTART;TZID=America/Halifax:20250215T120000
DTEND;TZID=America/Halifax:20250215T150000
DTSTAMP:20260421T112756
CREATED:20241101T181359Z
LAST-MODIFIED:20250105T193742Z
UID:10000025-1739620800-1739631600@musquodoboitvalley.ca
SUMMARY:3rd Annual Winter Carnival
DESCRIPTION:
URL:https://musquodoboitvalley.ca/event/annual-winter-carnival/
LOCATION:Elderbank Ballfield\, 5812 HWY 357\, Elderbank\, Nova Scotia\, Canada
ORGANIZER;CN="Elderbank Recreation Club":MAILTO:info@elderbankrecclub.com
END:VEVENT
END:VCALENDAR