BEGIN:VCALENDAR
VERSION:2.0
PRODID:-//Musquodoboit Valley - ECPv6.15.20//NONSGML v1.0//EN
CALSCALE:GREGORIAN
METHOD:PUBLISH
X-WR-CALNAME:Musquodoboit Valley
X-ORIGINAL-URL:https://musquodoboitvalley.ca
X-WR-CALDESC:Events for Musquodoboit Valley
REFRESH-INTERVAL;VALUE=DURATION:PT1H
X-Robots-Tag:noindex
X-PUBLISHED-TTL:PT1H
BEGIN:VTIMEZONE
TZID:America/Halifax
BEGIN:DAYLIGHT
TZOFFSETFROM:-0400
TZOFFSETTO:-0300
TZNAME:ADT
DTSTART:20240310T060000
END:DAYLIGHT
BEGIN:STANDARD
TZOFFSETFROM:-0300
TZOFFSETTO:-0400
TZNAME:AST
DTSTART:20241103T050000
END:STANDARD
BEGIN:DAYLIGHT
TZOFFSETFROM:-0400
TZOFFSETTO:-0300
TZNAME:ADT
DTSTART:20250309T060000
END:DAYLIGHT
BEGIN:STANDARD
TZOFFSETFROM:-0300
TZOFFSETTO:-0400
TZNAME:AST
DTSTART:20251102T050000
END:STANDARD
BEGIN:DAYLIGHT
TZOFFSETFROM:-0400
TZOFFSETTO:-0300
TZNAME:ADT
DTSTART:20260308T060000
END:DAYLIGHT
BEGIN:STANDARD
TZOFFSETFROM:-0300
TZOFFSETTO:-0400
TZNAME:AST
DTSTART:20261101T050000
END:STANDARD
END:VTIMEZONE
BEGIN:VEVENT
DTSTART;TZID=America/Halifax:20250210T183000
DTEND;TZID=America/Halifax:20250210T200000
DTSTAMP:20260421T112723
CREATED:20250209T160424Z
LAST-MODIFIED:20250209T160424Z
UID:10000041-1739212200-1739217600@musquodoboitvalley.ca
SUMMARY:Musquodoboit Valley Business Network Meeting
DESCRIPTION:Join us for a casual round-table Business Networking Meeting.
URL:https://musquodoboitvalley.ca/event/musquodoboit-valley-business-network-meeting/
LOCATION:25 Pine Street\, 25 Pine Street\, Middle Musquodoboit\, Nova Scotia / Nouvelle-Écosse\, B0N 1X0\, Canada
ORGANIZER;CN="Musquodoboit Valley Business Network":MAILTO:musqvalleybn@gmail.com
END:VEVENT
BEGIN:VEVENT
DTSTART;TZID=America/Halifax:20250210T190000
DTEND;TZID=America/Halifax:20250210T200000
DTSTAMP:20260421T112723
CREATED:20250209T154125Z
LAST-MODIFIED:20250209T154125Z
UID:10000037-1739214000-1739217600@musquodoboitvalley.ca
SUMMARY:Meagher's Grant Community Hall AGM
DESCRIPTION:Join in on discussions about the future of the hall.
URL:https://musquodoboitvalley.ca/event/meaghers-grant-community-hall-agm/
LOCATION:Meagher’s Grant Community Hall\, 20 Wyse Road\, Meaghers Grant\, Nova Scotia\, B0N 1V0\, Canada
ORGANIZER;CN="Meagher's Grant Community Hall":MAILTO:meaghersgrantvfd@gmail.com
END:VEVENT
END:VCALENDAR