BEGIN:VCALENDAR
VERSION:2.0
PRODID:-//Musquodoboit Valley - ECPv6.15.20//NONSGML v1.0//EN
CALSCALE:GREGORIAN
METHOD:PUBLISH
X-WR-CALNAME:Musquodoboit Valley
X-ORIGINAL-URL:https://musquodoboitvalley.ca
X-WR-CALDESC:Events for Musquodoboit Valley
REFRESH-INTERVAL;VALUE=DURATION:PT1H
X-Robots-Tag:noindex
X-PUBLISHED-TTL:PT1H
BEGIN:VTIMEZONE
TZID:America/Halifax
BEGIN:DAYLIGHT
TZOFFSETFROM:-0400
TZOFFSETTO:-0300
TZNAME:ADT
DTSTART:20240310T060000
END:DAYLIGHT
BEGIN:STANDARD
TZOFFSETFROM:-0300
TZOFFSETTO:-0400
TZNAME:AST
DTSTART:20241103T050000
END:STANDARD
BEGIN:DAYLIGHT
TZOFFSETFROM:-0400
TZOFFSETTO:-0300
TZNAME:ADT
DTSTART:20250309T060000
END:DAYLIGHT
BEGIN:STANDARD
TZOFFSETFROM:-0300
TZOFFSETTO:-0400
TZNAME:AST
DTSTART:20251102T050000
END:STANDARD
BEGIN:DAYLIGHT
TZOFFSETFROM:-0400
TZOFFSETTO:-0300
TZNAME:ADT
DTSTART:20260308T060000
END:DAYLIGHT
BEGIN:STANDARD
TZOFFSETFROM:-0300
TZOFFSETTO:-0400
TZNAME:AST
DTSTART:20261101T050000
END:STANDARD
END:VTIMEZONE
BEGIN:VEVENT
DTSTART;TZID=America/Halifax:20250205T103000
DTEND;TZID=America/Halifax:20250205T143000
DTSTAMP:20260421T112725
CREATED:20241101T175430Z
LAST-MODIFIED:20241229T130817Z
UID:10000014-1738751400-1738765800@musquodoboitvalley.ca
SUMMARY:Wednesday Wanderers
DESCRIPTION:Our popular TRAVEL CLUB is happening again in Middle Musquodoboit! This program runs every week for 10 weeks beginning September 18th. \nA combination book club\, cooking class\, digital skills course\, and social group\, join us as we explore far away places from the comfort of our classroom. This program is completely FREE plus we will be providing a light lunch for our Wednesday Wanderers. Books and laptops will be available to use at no charge.
URL:https://musquodoboitvalley.ca/event/wednesday-wanderers-2/
ORGANIZER;CN="Eastern Shore Musquodoboit Valley Learning Network":MAILTO:esmv@adultliteracynetwork.ca
END:VEVENT
END:VCALENDAR