BEGIN:VCALENDAR
VERSION:2.0
PRODID:-//Musquodoboit Valley - ECPv6.15.20//NONSGML v1.0//EN
CALSCALE:GREGORIAN
METHOD:PUBLISH
X-ORIGINAL-URL:https://musquodoboitvalley.ca
X-WR-CALDESC:Events for Musquodoboit Valley
REFRESH-INTERVAL;VALUE=DURATION:PT1H
X-Robots-Tag:noindex
X-PUBLISHED-TTL:PT1H
BEGIN:VTIMEZONE
TZID:America/Halifax
BEGIN:DAYLIGHT
TZOFFSETFROM:-0400
TZOFFSETTO:-0300
TZNAME:ADT
DTSTART:20230312T060000
END:DAYLIGHT
BEGIN:STANDARD
TZOFFSETFROM:-0300
TZOFFSETTO:-0400
TZNAME:AST
DTSTART:20231105T050000
END:STANDARD
BEGIN:DAYLIGHT
TZOFFSETFROM:-0400
TZOFFSETTO:-0300
TZNAME:ADT
DTSTART:20240310T060000
END:DAYLIGHT
BEGIN:STANDARD
TZOFFSETFROM:-0300
TZOFFSETTO:-0400
TZNAME:AST
DTSTART:20241103T050000
END:STANDARD
BEGIN:DAYLIGHT
TZOFFSETFROM:-0400
TZOFFSETTO:-0300
TZNAME:ADT
DTSTART:20250309T060000
END:DAYLIGHT
BEGIN:STANDARD
TZOFFSETFROM:-0300
TZOFFSETTO:-0400
TZNAME:AST
DTSTART:20251102T050000
END:STANDARD
END:VTIMEZONE
BEGIN:VEVENT
DTSTART;TZID=America/Halifax:20241208T183000
DTEND;TZID=America/Halifax:20241208T193000
DTSTAMP:20260421T141004
CREATED:20241101T182704Z
LAST-MODIFIED:20241101T182704Z
UID:10000032-1733682600-1733686200@musquodoboitvalley.ca
SUMMARY:Memorial Christmas Tree Lighting
DESCRIPTION:Donate to our memorial tree lighting and give the name of a lost\, yet still loved\, family member or friend that has passed on. Each name will be placed on an ornament\, then read durring our memorial ceremony. Those that donate are welcome to come hang the ornament in memory of their loved one. We welcome all to attend and take a moment to remember those in our community\, and families\, that we miss during the holiday season.
URL:https://musquodoboitvalley.ca/event/memorial-christmas-tree-lighting/
ORGANIZER;CN="Upper Musquodoboit Community Association":MAILTO:umca8344@gmail.com
END:VEVENT
END:VCALENDAR