BEGIN:VCALENDAR
VERSION:2.0
PRODID:-//Musquodoboit Valley - ECPv6.15.20//NONSGML v1.0//EN
CALSCALE:GREGORIAN
METHOD:PUBLISH
X-ORIGINAL-URL:https://musquodoboitvalley.ca
X-WR-CALDESC:Events for Musquodoboit Valley
REFRESH-INTERVAL;VALUE=DURATION:PT1H
X-Robots-Tag:noindex
X-PUBLISHED-TTL:PT1H
BEGIN:VTIMEZONE
TZID:America/Halifax
BEGIN:DAYLIGHT
TZOFFSETFROM:-0400
TZOFFSETTO:-0300
TZNAME:ADT
DTSTART:20230312T060000
END:DAYLIGHT
BEGIN:STANDARD
TZOFFSETFROM:-0300
TZOFFSETTO:-0400
TZNAME:AST
DTSTART:20231105T050000
END:STANDARD
BEGIN:DAYLIGHT
TZOFFSETFROM:-0400
TZOFFSETTO:-0300
TZNAME:ADT
DTSTART:20240310T060000
END:DAYLIGHT
BEGIN:STANDARD
TZOFFSETFROM:-0300
TZOFFSETTO:-0400
TZNAME:AST
DTSTART:20241103T050000
END:STANDARD
BEGIN:DAYLIGHT
TZOFFSETFROM:-0400
TZOFFSETTO:-0300
TZNAME:ADT
DTSTART:20250309T060000
END:DAYLIGHT
BEGIN:STANDARD
TZOFFSETFROM:-0300
TZOFFSETTO:-0400
TZNAME:AST
DTSTART:20251102T050000
END:STANDARD
END:VTIMEZONE
BEGIN:VEVENT
DTSTART;TZID=America/Halifax:20241201T183000
DTEND;TZID=America/Halifax:20241201T193000
DTSTAMP:20260421T141010
CREATED:20241101T182328Z
LAST-MODIFIED:20241101T182328Z
UID:10000029-1733077800-1733081400@musquodoboitvalley.ca
SUMMARY:Tree Lighting
DESCRIPTION:Tree lighting.
URL:https://musquodoboitvalley.ca/event/tree-lighting/
ORGANIZER;CN="Sharon Presbyterian Church":MAILTO:dartnut@hotmail.com
END:VEVENT
END:VCALENDAR