BEGIN:VCALENDAR
VERSION:2.0
PRODID:-//Musquodoboit Valley - ECPv6.15.20//NONSGML v1.0//EN
CALSCALE:GREGORIAN
METHOD:PUBLISH
X-WR-CALNAME:Musquodoboit Valley
X-ORIGINAL-URL:https://musquodoboitvalley.ca
X-WR-CALDESC:Events for Musquodoboit Valley
REFRESH-INTERVAL;VALUE=DURATION:PT1H
X-Robots-Tag:noindex
X-PUBLISHED-TTL:PT1H
BEGIN:VTIMEZONE
TZID:America/Halifax
BEGIN:DAYLIGHT
TZOFFSETFROM:-0400
TZOFFSETTO:-0300
TZNAME:ADT
DTSTART:20230312T060000
END:DAYLIGHT
BEGIN:STANDARD
TZOFFSETFROM:-0300
TZOFFSETTO:-0400
TZNAME:AST
DTSTART:20231105T050000
END:STANDARD
BEGIN:DAYLIGHT
TZOFFSETFROM:-0400
TZOFFSETTO:-0300
TZNAME:ADT
DTSTART:20240310T060000
END:DAYLIGHT
BEGIN:STANDARD
TZOFFSETFROM:-0300
TZOFFSETTO:-0400
TZNAME:AST
DTSTART:20241103T050000
END:STANDARD
BEGIN:DAYLIGHT
TZOFFSETFROM:-0400
TZOFFSETTO:-0300
TZNAME:ADT
DTSTART:20250309T060000
END:DAYLIGHT
BEGIN:STANDARD
TZOFFSETFROM:-0300
TZOFFSETTO:-0400
TZNAME:AST
DTSTART:20251102T050000
END:STANDARD
END:VTIMEZONE
BEGIN:VEVENT
DTSTART;VALUE=DATE:20241123
DTEND;VALUE=DATE:20241124
DTSTAMP:20260421T153214
CREATED:20241031T221234Z
LAST-MODIFIED:20241031T221234Z
UID:10000002-1732320000-1732406399@musquodoboitvalley.ca
SUMMARY:Veggie Pickup
DESCRIPTION:Square Roots offers 10 lbs bags of veggies bi weekly to those in need for an affordable price ..\ndiscounted price or free when in need.
URL:https://musquodoboitvalley.ca/event/veggie-pickup-2/
ORGANIZER;CN="Square Roots":MAILTO:musquodoboitvalleysquareroots@gmail.com 
END:VEVENT
BEGIN:VEVENT
DTSTART;TZID=America/Halifax:20241123T100000
DTEND;TZID=America/Halifax:20241123T150000
DTSTAMP:20260421T153214
CREATED:20241101T180946Z
LAST-MODIFIED:20241101T180946Z
UID:10000022-1732356000-1732374000@musquodoboitvalley.ca
SUMMARY:Artisans Christmas Craft Sale
DESCRIPTION:Christmas Craft Sale.
URL:https://musquodoboitvalley.ca/event/artisans-christmas-craft-sale/
ORGANIZER;CN="Artisans from the Heart":MAILTO:magsplace3@hotmail.com
END:VEVENT
END:VCALENDAR